Workbook

Sheet VANZARI
A1: DINAMICĂ TRANZACȚII - IANUARIE 2026
A3: Nr. crt. | B3: Județ | C3: Număr terenuri | G3: Nr. Unități Individuale | H3: Total Imobile
C4: Extravilan | E4: Intravilan
C5: Agricol | D5: Neagricol | E5: Cu construcții | F5: Fără construcții | J5: 2025 | L5: %
A6: 1 | B6: ALBA | C6: 90 | D6: 6 | E6: 95 | F6: 70 | G6: 58 | H6: 319 | J6: =VLOOKUP(B6,'VANZAR 2025'!B:G,6,FALSE) -> 34 | L6: =(G6-J6)/J6 -> 0.70588235
A7: =A6+1 -> 2 | B7: ARAD | C7: 213 | D7: 5 | E7: 85 | F7: 42 | G7: 69 | H7: 414 | J7: =VLOOKUP(B7,'VANZAR 2025'!B:G,6,FALSE) -> 92 | L7: =(G7-J7)/J7 -> -0.25
A8: =A7+1 -> 3 | B8: ARGEȘ | C8: 55 | D8: 9 | E8: 85 | F8: 144 | G8: 105 | H8: 398 | J8: =VLOOKUP(B8,'VANZAR 2025'!B:G,6,FALSE) -> 85 | L8: =(G8-J8)/J8 -> 0.23529412
A9: =A8+1 -> 4 | B9: BACAU | C9: 86 | D9: 3 | E9: 171 | F9: 144 | G9: 156 | H9: 560 | J9: =VLOOKUP(B9,'VANZAR 2025'!B:G,6,FALSE) -> 181 | L9: =(G9-J9)/J9 -> -0.13812155
A10: =A9+1 -> 5 | B10: BIHOR | C10: 100 | D10: 9 | E10: 160 | F10: 105 | G10: 90 | H10: 464 | J10: =VLOOKUP(B10,'VANZAR 2025'!B:G,6,FALSE) -> 156 | L10: =(G10-J10)/J10 -> -0.42307692
A11: =A10+1 -> 6 | B11: BISTRIȚA NĂSĂUD | C11: 30 | D11: 4 | E11: 61 | F11: 66 | G11: 43 | H11: 204 | J11: =VLOOKUP(B11,'VANZAR 2025'!B:G,6,FALSE) -> 89 | L11: =(G11-J11)/J11 -> -0.51685393
A12: =A11+1 -> 7 | B12: BOTOȘANI | C12: 229 | D12: 5 | E12: 105 | F12: 104 | G12: 54 | H12: 497 | J12: =VLOOKUP(B12,'VANZAR 2025'!B:G,6,FALSE) -> 127 | L12: =(G12-J12)/J12 -> -0.57480315
A13: =A12+1 -> 8 | B13: BRĂILA | C13: 98 | D13: 1 | E13: 43 | F13: 12 | G13: 64 | H13: 218 | J13: =VLOOKUP(B13,'VANZAR 2025'!B:G,6,FALSE) -> 53 | L13: =(G13-J13)/J13 -> 0.20754717
A14: =A13+1 -> 9 | B14: BRAȘOV | C14: 71 | D14: 2 | E14: 406 | F14: 438 | G14: 356 | H14: 1273 | J14: =VLOOKUP(B14,'VANZAR 2025'!B:G,6,FALSE) -> 409 | L14: =(G14-J14)/J14 -> -0.12958435
A15: =A14+1 -> 10 | B15: BUCUREȘTI | C15: 0 | D15: 0 | E15: 1247 | F15: 920 | G15: 1992 | H15: 4159 | J15: =VLOOKUP(B15,'VANZAR 2025'!B:G,6,FALSE) -> 2545 | L15: =(G15-J15)/J15 -> -0.2172888
A16: =A15+1 -> 11 | B16: BUZĂU | C16: 436 | D16: 30 | E16: 152 | F16: 95 | G16: 46 | H16: 759 | J16: =VLOOKUP(B16,'VANZAR 2025'!B:G,6,FALSE) -> 59 | L16: =(G16-J16)/J16 -> -0.22033898
A17: =A16+1 -> 12 | B17: CĂLĂRAȘI | C17: 46 | D17: 0 | E17: 35 | F17: 21 | G17: 19 | H17: 121 | J17: =VLOOKUP(B17,'VANZAR 2025'!B:G,6,FALSE) -> 25 | L17: =(G17-J17)/J17 -> -0.24
A18: =A17+1 -> 13 | B18: CARAȘ SEVERIN | C18: 46 | D18: 1 | E18: 39 | F18: 51 | G18: 49 | H18: 186 | J18: =VLOOKUP(B18,'VANZAR 2025'!B:G,6,FALSE) -> 67 | L18: =(G18-J18)/J18 -> -0.26865672
... A47: =A46+1 -> 42 | B47: VRANCEA | C47: 236 | D47: 0 | E47: 90 | F47: 85 | G47: 41 | H47: 452 | J47: =VLOOKUP(B47,'VANZAR 2025'!B:G,6,FALSE) -> 65 | L47: =(G47-J47)/J47 -> -0.36923077
B48: TOTAL | C48: =SUM(C6:C47) -> 5071 | D48: =SUM(D6:D47) -> 231 | E48: =SUM(E6:E47) -> 6803 | F48: =SUM(F6:F47) -> 6170 | G48: =SUM(G6:G47) -> 6323 | H48: =SUM(H6:H47) -> 24598 | J48: =VLOOKUP(B48,'VANZAR 2025'!B:G,6,FALSE) -> 8434 | L48: =(G48-J48)/J48 -> -0.25029642
A50: Notă: Statisticile referitoare la dinamica tranzacțiilor imobiliare se raportează la numărul cererilor
B51: de înscriere care se întemeiază pe acte juridice de transfer al dreptului de proprietate,
B52: înregistrate și soluționate în luna de referință

Sheet VANZAR 2025
A1: DINAMICĂ TRANZACȚII - IANUARIE 2025
A3: Nr. crt. | B3: Județ | C3: Număr terenuri | G3: Nr. Unități Individuale | H3: Total Imobile
C4: Extravilan | E4: Intravilan
C5: Agricol | D5: Neagricol | E5: Cu construcții | F5: Fără construcții
A6: 1 | B6: ALBA | C6: 24 | D6: 1 | E6: 53 | F6: 21 | G6: 34 | H6: 133
A7: =A6+1 -> 2 | B7: ARAD | C7: 101 | D7: 0 | E7: 144 | F7: 68 | G7: 92 | H7: 405
A8: =A7+1 -> 3 | B8: ARGEȘ | C8: 55 | D8: 3 | E8: 76 | F8: 99 | G8: 85 | H8: 318
A9: =A8+1 -> 4 | B9: BACAU | C9: 111 | D9: 5 | E9: 185 | F9: 166 | G9: 181 | H9: 648
A10: =A9+1 -> 5 | B10: BIHOR | C10: 152 | D10: 6 | E10: 261 | F10: 204 | G10: 156 | H10: 779
A11: =A10+1 -> 6 | B11: BISTRIȚA NĂSĂUD | C11: 95 | D11: 7 | E11: 140 | F11: 103 | G11: 89 | H11: 434
A12: =A11+1 -> 7 | B12: BOTOȘANI | C12: 333 | D12: 11 | E12: 180 | F12: 120 | G12: 127 | H12: 771
A13: =A12+1 -> 8 | B13: BRĂILA | C13: 222 | D13: 1 | E13: 56 | F13: 7 | G13: 53 | H13: 339
A14: =A13+1 -> 9 | B14: BRAȘOV | C14: 133 | D14: 2 | E14: 434 | F14: 500 | G14: 409 | H14: 1478
A15: =A14+1 -> 10 | B15: BUCUREȘTI | C15: 0 | D15: 0 | E15: 1742 | F15: 1402 | G15: 2545 | H15: 5689
A16: =A15+1 -> 11 | B16: BUZĂU | C16: 307 | D16: 2 | E16: 165 | F16: 97 | G16: 59 | H16: 630
A17: =A16+1 -> 12 | B17: CĂLĂRAȘI | C17: 69 | D17: 0 | E17: 62 | F17: 22 | G17: 25 | H17: 178
A18: =A17+1 -> 13 | B18: CARAȘ SEVERIN | C18: 199 | D18: 13 | E18: 62 | F18: 39 | G18: 67 | H18: 380
... A47: =A46+1 -> 42 | B47: VRANCEA | C47: 197 | D47: 15 | E47: 117 | F47: 113 | G47: 65 | H47: 507
B48: TOTAL | C48: =SUM(C6:C47) -> 5675 | D48: =SUM(D6:D47) -> 234 | E48: =SUM(E6:E47) -> 8820 | F48: =SUM(F6:F47) -> 7671 | G48: =SUM(G6:G47) -> 8434 | H48: =SUM(H6:H47) -> 30834
